BEGIN:VCALENDAR
VERSION:2.0
PRODID:-//Rebecca Rukeyser - ECPv6.3.7//NONSGML v1.0//EN
CALSCALE:GREGORIAN
METHOD:PUBLISH
X-ORIGINAL-URL:https://rebeccarukeyser.com
X-WR-CALDESC:Events for Rebecca Rukeyser
REFRESH-INTERVAL;VALUE=DURATION:PT1H
X-Robots-Tag:noindex
X-PUBLISHED-TTL:PT1H
BEGIN:VTIMEZONE
TZID:UTC
BEGIN:STANDARD
TZOFFSETFROM:+0000
TZOFFSETTO:+0000
TZNAME:UTC
DTSTART:20220101T000000
END:STANDARD
END:VTIMEZONE
BEGIN:VEVENT
DTSTART;TZID=UTC:20220826T183000
DTEND;TZID=UTC:20220826T193000
DTSTAMP:20260425T031030
CREATED:20220627T041322Z
LAST-MODIFIED:20220627T041322Z
UID:467-1661538600-1661542200@rebeccarukeyser.com
SUMMARY:Edinburgh International Book Festival: Wild At Heart
DESCRIPTION:In conversation with Sasha de Buyl.
URL:https://rebeccarukeyser.com/event/edinburgh-international-book-festival-wild-at-heart/
LOCATION:Wee Red Bar\, 74 Lauriston Pl\, Edinburgh\, United Kingdom
ATTACH;FMTTYPE=image/jpeg:https://rebeccarukeyser.com/wp-content/uploads/2022/06/Book_Festival_2017_566x205_festival_logo.jpeg
END:VEVENT
END:VCALENDAR