BEGIN:VCALENDAR
VERSION:2.0
PRODID:-//Rebecca Rukeyser - ECPv6.3.7//NONSGML v1.0//EN
CALSCALE:GREGORIAN
METHOD:PUBLISH
X-WR-CALNAME:Rebecca Rukeyser
X-ORIGINAL-URL:https://rebeccarukeyser.com
X-WR-CALDESC:Events for Rebecca Rukeyser
REFRESH-INTERVAL;VALUE=DURATION:PT1H
X-Robots-Tag:noindex
X-PUBLISHED-TTL:PT1H
BEGIN:VTIMEZONE
TZID:Europe/Helsinki
BEGIN:DAYLIGHT
TZOFFSETFROM:+0200
TZOFFSETTO:+0300
TZNAME:EEST
DTSTART:20220327T010000
END:DAYLIGHT
BEGIN:STANDARD
TZOFFSETFROM:+0300
TZOFFSETTO:+0200
TZNAME:EET
DTSTART:20221030T010000
END:STANDARD
END:VTIMEZONE
BEGIN:VEVENT
DTSTART;TZID=Europe/Helsinki:20220916T193000
DTEND;TZID=Europe/Helsinki:20220916T210000
DTSTAMP:20260425T013044
CREATED:20220815T114234Z
LAST-MODIFIED:20220815T114234Z
UID:515-1663356600-1663362000@rebeccarukeyser.com
SUMMARY:International Literature Festival Berlin—New US-American Voices: Lauren Oyler & Rebecca Rukeyser
DESCRIPTION:With moderation by Alexander Wells.
URL:https://rebeccarukeyser.com/event/international-literature-festival-berlin-new-us-american-voices-lauren-oyler-rebecca-rukeyser/
LOCATION:Haus der Berliner Festspiele\, Schaperstraße 24\, Berlin\, Germany
ATTACH;FMTTYPE=image/webp:https://rebeccarukeyser.com/wp-content/uploads/2022/08/Plakat-2022-2048x1375.jpg.webp
END:VEVENT
END:VCALENDAR