BEGIN:VCALENDAR
VERSION:2.0
PRODID:-//Rebecca Rukeyser - ECPv6.3.7//NONSGML v1.0//EN
CALSCALE:GREGORIAN
METHOD:PUBLISH
X-WR-CALNAME:Rebecca Rukeyser
X-ORIGINAL-URL:https://rebeccarukeyser.com
X-WR-CALDESC:Events for Rebecca Rukeyser
REFRESH-INTERVAL;VALUE=DURATION:PT1H
X-Robots-Tag:noindex
X-PUBLISHED-TTL:PT1H
BEGIN:VTIMEZONE
TZID:Europe/Helsinki
BEGIN:DAYLIGHT
TZOFFSETFROM:+0200
TZOFFSETTO:+0300
TZNAME:EEST
DTSTART:20220327T010000
END:DAYLIGHT
BEGIN:STANDARD
TZOFFSETFROM:+0300
TZOFFSETTO:+0200
TZNAME:EET
DTSTART:20221030T010000
END:STANDARD
END:VTIMEZONE
BEGIN:VEVENT
DTSTART;TZID=Europe/Helsinki:20220917T160000
DTEND;TZID=Europe/Helsinki:20220917T200000
DTSTAMP:20260425T013046
CREATED:20220815T114651Z
LAST-MODIFIED:20220815T114651Z
UID:519-1663430400-1663444800@rebeccarukeyser.com
SUMMARY:International Literature Festival Berlin—Landpartie: Alaska Reading and Birdwatching in Brandenburg. With Rebecca Rukeyser\, Nell Zink und dem NABU
DESCRIPTION:Together with friends\, the writer Lola Randl has transformed a train station in Brandenburg into a cultural venue. The ilb will be there for a reading and bird-watching stroll for one afternoon.
URL:https://rebeccarukeyser.com/event/international-literature-festival-berlin-landpartie-alaska-reading-and-birdwatching-in-brandenburg-with-rebecca-rukeyser-nell-zink-und-dem-nabu/
LOCATION:Bahnhof Wilmersdorf [b. Angermünde]\, Angermünde\, Brandenburg\, 16278\, Germany
ATTACH;FMTTYPE=image/webp:https://rebeccarukeyser.com/wp-content/uploads/2022/08/Plakat-2022-2048x1375.jpg.webp
END:VEVENT
END:VCALENDAR