BEGIN:VCALENDAR
VERSION:2.0
PRODID:-//Rebecca Rukeyser - ECPv6.3.7//NONSGML v1.0//EN
CALSCALE:GREGORIAN
METHOD:PUBLISH
X-WR-CALNAME:Rebecca Rukeyser
X-ORIGINAL-URL:https://rebeccarukeyser.com
X-WR-CALDESC:Events for Rebecca Rukeyser
REFRESH-INTERVAL;VALUE=DURATION:PT1H
X-Robots-Tag:noindex
X-PUBLISHED-TTL:PT1H
BEGIN:VTIMEZONE
TZID:America/New_York
BEGIN:DAYLIGHT
TZOFFSETFROM:-0500
TZOFFSETTO:-0400
TZNAME:EDT
DTSTART:20230312T070000
END:DAYLIGHT
BEGIN:STANDARD
TZOFFSETFROM:-0400
TZOFFSETTO:-0500
TZNAME:EST
DTSTART:20231105T060000
END:STANDARD
END:VTIMEZONE
BEGIN:VEVENT
DTSTART;TZID=America/New_York:20230518T170000
DTEND;TZID=America/New_York:20230518T180000
DTSTAMP:20260424T140257
CREATED:20230503T135200Z
LAST-MODIFIED:20230503T135200Z
UID:589-1684429200-1684432800@rebeccarukeyser.com
SUMMARY:Horny Between the Covers: Women Writers on Lust
DESCRIPTION:Electric Literature’s 2023 Spring Salon Series is presented by Mount Saint Mary’s University.   \nAll events are pay-what-you-want\, and proceeds support Electric Literature\, a 501c3 nonprofit with the mission to make literature more exciting\, relevant\, and inclusive. \n— \nIn a time when women’s bodily autonomy is under renewed legal attack\, narratives about ungovernable female desire take on new urgency. As our laws regress\, more and more contemporary fiction is pushing back against outdated beliefs regarding writing about sex\, giving female horniness the central focus it deserves. \nOur panelists Carmen Maria Machado (Her Body and Other Parties and In the Dream House)\, Rebecca Rukeyser (The Seaplane on Final Approach)\, and Lillian Fishman (Acts of Service) began this conversation during a packed panel at AWP\, but found that there was still so much to say about bodies\, lust\, and publishing. Now Electric Literature is continuing the conversation for free\, online. Whose desire gets to be depicted\, and how are narratives about lust molded by society’s judgments? And how do authors navigate the vulnerable process of publishing explicit work?  Moderated by Alyssa Songsiridej\, author of Little Rabbit and managing editor at Electric Literature. Their discussion will be followed by an audience Q&A.
URL:https://rebeccarukeyser.com/event/horny-between-the-covers-women-writers-on-lust/
LOCATION:Virtual
ATTACH;FMTTYPE=image/png:https://rebeccarukeyser.com/wp-content/uploads/2023/05/Horny-Between-the-Covers-2023-Salon-Square.png
END:VEVENT
END:VCALENDAR