BEGIN:VCALENDAR
VERSION:2.0
PRODID:-//Rebecca Rukeyser - ECPv6.3.7//NONSGML v1.0//EN
CALSCALE:GREGORIAN
METHOD:PUBLISH
X-WR-CALNAME:Rebecca Rukeyser
X-ORIGINAL-URL:https://rebeccarukeyser.com
X-WR-CALDESC:Events for Rebecca Rukeyser
REFRESH-INTERVAL;VALUE=DURATION:PT1H
X-Robots-Tag:noindex
X-PUBLISHED-TTL:PT1H
BEGIN:VTIMEZONE
TZID:America/New_York
BEGIN:DAYLIGHT
TZOFFSETFROM:-0500
TZOFFSETTO:-0400
TZNAME:EDT
DTSTART:20220313T070000
END:DAYLIGHT
BEGIN:STANDARD
TZOFFSETFROM:-0400
TZOFFSETTO:-0500
TZNAME:EST
DTSTART:20221106T060000
END:STANDARD
TZID:America/Los_Angeles
BEGIN:DAYLIGHT
TZOFFSETFROM:-0800
TZOFFSETTO:-0700
TZNAME:PDT
DTSTART:20220313T100000
END:DAYLIGHT
BEGIN:STANDARD
TZOFFSETFROM:-0700
TZOFFSETTO:-0800
TZNAME:PST
DTSTART:20221106T090000
END:STANDARD
TZID:Europe/Helsinki
BEGIN:DAYLIGHT
TZOFFSETFROM:+0200
TZOFFSETTO:+0300
TZNAME:EEST
DTSTART:20220327T010000
END:DAYLIGHT
BEGIN:STANDARD
TZOFFSETFROM:+0300
TZOFFSETTO:+0200
TZNAME:EET
DTSTART:20221030T010000
END:STANDARD
END:VTIMEZONE
BEGIN:VEVENT
DTSTART;VALUE=DATE:20220608
DTEND;VALUE=DATE:20220713
DTSTAMP:20260425T030854
CREATED:20220525T130322Z
LAST-MODIFIED:20220525T131455Z
UID:385-1654646400-1657670399@rebeccarukeyser.com
SUMMARY:The Seaplane on Final Approach Book Tour (In-Person and Virtual)
DESCRIPTION:I’m excited to be talking with so many amazing people and visiting so many cities. Hope to see you at one of the events!
URL:https://rebeccarukeyser.com/event/the-seaplane-on-final-approach-book-tour-in-person-and-virtual/
ATTACH;FMTTYPE=image/jpeg:https://rebeccarukeyser.com/wp-content/uploads/2022/05/Seaplane_tourcard3.jpeg
END:VEVENT
BEGIN:VEVENT
DTSTART;TZID=America/Los_Angeles:20220630T190000
DTEND;TZID=America/Los_Angeles:20220630T200000
DTSTAMP:20260425T030854
CREATED:20220525T131324Z
LAST-MODIFIED:20220525T131656Z
UID:388-1656615600-1656619200@rebeccarukeyser.com
SUMMARY:Seattle: Reading And Conversation with Piper Lane (In Person)
DESCRIPTION:I’ll be reading and chatting with Seattle writer\, doula\, and fisherman Piper Lane\, who herself hails from Homer\, Alaska. She has a first novel-in-progress\, Standing in the Bight\, and has been a Hugo House Fellow and Hedgebrook resident. \nThe event is free\, but you should register beforehand. You can do that here.
URL:https://rebeccarukeyser.com/event/seattle-reading-and-conversation-with-piper-lane-in-person/
LOCATION:Elliott Bay Book Company\, 1521 Tenth Avenue\, Seattle\, Washington
ATTACH;FMTTYPE=image/png:https://rebeccarukeyser.com/wp-content/uploads/2022/05/Screen-Shot-2022-05-25-at-3.15.48-PM.png
END:VEVENT
BEGIN:VEVENT
DTSTART;TZID=Europe/Helsinki:20220712T193000
DTEND;TZID=Europe/Helsinki:20220712T210000
DTSTAMP:20260425T030854
CREATED:20220603T153130Z
LAST-MODIFIED:20220627T042310Z
UID:421-1657654200-1657659600@rebeccarukeyser.com
SUMMARY:Berlin Launch Party: Reading and Conversation with Jane Flett
DESCRIPTION:In conversation with Jane Flett\, whose fiction has been appeared on BBC Radio 4\, in Electric Literature\, and awarded the Berlin Senate Award for non-German literature and the Scottish Book Trust New Writer Award. \nAfter the brief reading there will be a book signing (books provided by Curious Fox) followed by drinks and dancing.
URL:https://rebeccarukeyser.com/event/berlin-launch-party-reading-and-conversation-with-jane-flett/
LOCATION:Lettrétage\, Veteranenstraße 21\, Berlin\, 10119\, Germany
ATTACH;FMTTYPE=image/png:https://rebeccarukeyser.com/wp-content/uploads/2022/06/Screen-Shot-2022-06-03-at-11.09.17-AM.png
END:VEVENT
END:VCALENDAR