BEGIN:VCALENDAR
VERSION:2.0
PRODID:-//Rebecca Rukeyser - ECPv6.3.7//NONSGML v1.0//EN
CALSCALE:GREGORIAN
METHOD:PUBLISH
X-ORIGINAL-URL:https://rebeccarukeyser.com
X-WR-CALDESC:Events for Rebecca Rukeyser
REFRESH-INTERVAL;VALUE=DURATION:PT1H
X-Robots-Tag:noindex
X-PUBLISHED-TTL:PT1H
BEGIN:VTIMEZONE
TZID:UTC
BEGIN:STANDARD
TZOFFSETFROM:+0000
TZOFFSETTO:+0000
TZNAME:UTC
DTSTART:20230101T000000
END:STANDARD
END:VTIMEZONE
BEGIN:VEVENT
DTSTART;TZID=UTC:20230311T134500
DTEND;TZID=UTC:20230311T151500
DTSTAMP:20260424T140152
CREATED:20230503T134754Z
LAST-MODIFIED:20230503T134754Z
UID:584-1678542300-1678547700@rebeccarukeyser.com
SUMMARY:AWP 2023: The Narrative of Desire: The Importance of Writing Horny Women
DESCRIPTION:A panel discussion with Carmen Maria Machado\, Alyssa Songsiridej\, and Lillian Fishman. \nSexual desire is a perfect narrative accelerant. It propels plot\, informs character\, thwarts plans. But pure sexual desire is often denied female characters\, who are allowed to be desirous-but-doomed or desirous-but-it’s-self-actualization but rarely messily\, humanly horny. In this panel\, four writers discuss the strategies\, challenges\, and value of writing horniness in fiction\, the impoverished history of women’s desire in fiction\, and importance of a robust future of horny women characters.
URL:https://rebeccarukeyser.com/event/awp-2023-the-narrative-of-desire-the-importance-of-writing-horny-women/
ATTACH;FMTTYPE=image/png:https://rebeccarukeyser.com/wp-content/uploads/2023/05/awp.jpg.png
END:VEVENT
END:VCALENDAR